BEGIN:VCALENDAR
VERSION:2.0
PRODID:-//Plone.org//NONSGML plone.app.event//EN
X-WR-TIMEZONE:Europe/Rome
BEGIN:VEVENT
SUMMARY:Labour and social movements in us contemporary history
DTSTART;TZID=Europe/Rome;VALUE=DATE-TIME:20151217T110000
DTEND;TZID=Europe/Rome;VALUE=DATE-TIME:20151217T130000
DTSTAMP;VALUE=DATE-TIME:20260420T064122Z
UID:a8d6314adee24949975b0a7fc31a7da7@disci.unibo.it
CREATED;VALUE=DATE-TIME:20151209T090317Z
DESCRIPTION:Seminario nell'ambito del Dottorato in Storia Culture Civiltà
 .
LAST-MODIFIED;VALUE=DATE-TIME:20151209T093919Z
URL:https://disci.unibo.it/it/eventi/labour-and-social-movements-in-us-con
 temporary-history
END:VEVENT
BEGIN:VTIMEZONE
TZID:Europe/Rome
X-LIC-LOCATION:Europe/Rome
BEGIN:STANDARD
DTSTART;VALUE=DATE-TIME:20151025T020000
TZNAME:CET
TZOFFSETFROM:+0200
TZOFFSETTO:+0100
END:STANDARD
END:VTIMEZONE
END:VCALENDAR
