BEGIN:VCALENDAR
VERSION:2.0
PRODID:-//Plone.org//NONSGML plone.app.event//EN
X-WR-TIMEZONE:Europe/Rome
BEGIN:VEVENT
SUMMARY:Landscape 3 - Una sintesi di elementi diacronici
DTSTART;TZID=Europe/Rome;VALUE=DATE-TIME:20220505T100000
DTEND;TZID=Europe/Rome;VALUE=DATE-TIME:20220506T190000
DTSTAMP;VALUE=DATE-TIME:20260422T121747Z
UID:94f4df1ec0ff4bc49db49c76c6b8b3fd@disci.unibo.it
CREATED;VALUE=DATE-TIME:20220429T181906Z
DESCRIPTION:Convegno di Studi promosso in collaborazione con la Consulta U
 niversitaria di Topografia Antica
LAST-MODIFIED;VALUE=DATE-TIME:20220502T085944Z
URL:https://disci.unibo.it/it/eventi/landscape-3-una-sintesi-di-elementi-d
 iacronici
END:VEVENT
BEGIN:VTIMEZONE
TZID:Europe/Rome
X-LIC-LOCATION:Europe/Rome
BEGIN:DAYLIGHT
DTSTART;VALUE=DATE-TIME:20220327T030000
TZNAME:CEST
TZOFFSETFROM:+0100
TZOFFSETTO:+0200
END:DAYLIGHT
END:VTIMEZONE
END:VCALENDAR
