BEGIN:VCALENDAR
VERSION:2.0
PRODID:-//Plone.org//NONSGML plone.app.event//EN
X-WR-TIMEZONE:Europe/Rome
BEGIN:VEVENT
SUMMARY:Le lingue del mondo
DTSTART;TZID=Europe/Rome;VALUE=DATE-TIME:20150319T110000
DTEND;TZID=Europe/Rome;VALUE=DATE-TIME:20150326T130000
DTSTAMP;VALUE=DATE-TIME:20260420T224735Z
UID:c2af4d25dd3f486699b4c38608034517@disci.unibo.it
CREATED;VALUE=DATE-TIME:20150310T083603Z
DESCRIPTION:Seminario.
LAST-MODIFIED;VALUE=DATE-TIME:20210301T111102Z
URL:https://disci.unibo.it/it/eventi/le-lingue-del-mondo
END:VEVENT
BEGIN:VTIMEZONE
TZID:Europe/Rome
X-LIC-LOCATION:Europe/Rome
BEGIN:STANDARD
DTSTART;VALUE=DATE-TIME:20141026T020000
TZNAME:CET
TZOFFSETFROM:+0200
TZOFFSETTO:+0100
END:STANDARD
END:VTIMEZONE
END:VCALENDAR
