BEGIN:VCALENDAR
VERSION:2.0
PRODID:-//Plone.org//NONSGML plone.app.event//EN
X-WR-TIMEZONE:Europe/Rome
BEGIN:VEVENT
SUMMARY:Leonesse
DTSTART;TZID=Europe/Rome;VALUE=DATE-TIME:20250507T150000
DTEND;TZID=Europe/Rome;VALUE=DATE-TIME:20250507T170000
DTSTAMP;VALUE=DATE-TIME:20260419T145837Z
UID:95d20ebfb4ef4c1896c28a58759402bb@disci.unibo.it
CREATED;VALUE=DATE-TIME:20250505T081024Z
DESCRIPTION:Ciclo di seminari: "Fonti e metodologie della ricerca storica\
 , a.a. 2024/2025"\, Seminari di Storia Medievale e Moderna.
LAST-MODIFIED;VALUE=DATE-TIME:20250505T084442Z
URL:https://disci.unibo.it/it/eventi/leonesse
END:VEVENT
BEGIN:VTIMEZONE
TZID:Europe/Rome
X-LIC-LOCATION:Europe/Rome
BEGIN:DAYLIGHT
DTSTART;VALUE=DATE-TIME:20250330T030000
TZNAME:CEST
TZOFFSETFROM:+0100
TZOFFSETTO:+0200
END:DAYLIGHT
END:VTIMEZONE
END:VCALENDAR
