BEGIN:VCALENDAR
VERSION:2.0
PRODID:-//Plone.org//NONSGML plone.app.event//EN
X-WR-TIMEZONE:Europe/Rome
BEGIN:VEVENT
SUMMARY:Lettere "in gramuffa". Una fonte per la storia dei rapporti fra pa
 pato e impero a metà del XVI secolo
DTSTART;TZID=Europe/Rome;VALUE=DATE-TIME:20150121T150000
DTEND;TZID=Europe/Rome;VALUE=DATE-TIME:20150121T170000
DTSTAMP;VALUE=DATE-TIME:20260419T145603Z
UID:e55f704d6107490898fc82d64d124751@disci.unibo.it
CREATED;VALUE=DATE-TIME:20150114T101716Z
DESCRIPTION:Seminario del ciclo "Fonti e metodologia".
LAST-MODIFIED;VALUE=DATE-TIME:20210301T135246Z
URL:https://disci.unibo.it/it/eventi/lettere-in-gramuffa.-una-fonte-per-la
 -storia-dei-rapporti-fra-papato-e-impero-a-meta-del-xvi-secolo
END:VEVENT
BEGIN:VTIMEZONE
TZID:Europe/Rome
X-LIC-LOCATION:Europe/Rome
BEGIN:STANDARD
DTSTART;VALUE=DATE-TIME:20141026T020000
TZNAME:CET
TZOFFSETFROM:+0200
TZOFFSETTO:+0100
END:STANDARD
END:VTIMEZONE
END:VCALENDAR
