BEGIN:VCALENDAR
VERSION:2.0
PRODID:-//Plone.org//NONSGML plone.app.event//EN
X-WR-TIMEZONE:Europe/Rome
BEGIN:VEVENT
SUMMARY:Lezione - spettacolo di danza bharata natyam
DTSTART;TZID=Europe/Rome;VALUE=DATE-TIME:20170222T193000
DTEND;TZID=Europe/Rome;VALUE=DATE-TIME:20170222T223000
DTSTAMP;VALUE=DATE-TIME:20260422T204719Z
UID:0df21ba1ce054a39a64b2e90b418328e@disci.unibo.it
CREATED;VALUE=DATE-TIME:20170216T073049Z
DESCRIPTION:Aperture serali presso la Scuola di Lettere e Beni Culturali.
LAST-MODIFIED;VALUE=DATE-TIME:20210301T140310Z
URL:https://disci.unibo.it/it/eventi/lezione-spettacolo-di-danza-bharata-n
 atyam-1
END:VEVENT
BEGIN:VTIMEZONE
TZID:Europe/Rome
X-LIC-LOCATION:Europe/Rome
BEGIN:STANDARD
DTSTART;VALUE=DATE-TIME:20161030T020000
TZNAME:CET
TZOFFSETFROM:+0200
TZOFFSETTO:+0100
END:STANDARD
END:VTIMEZONE
END:VCALENDAR
