BEGIN:VCALENDAR
VERSION:2.0
PRODID:-//Plone.org//NONSGML plone.app.event//EN
X-WR-TIMEZONE:Europe/Rome
BEGIN:VEVENT
SUMMARY:Medagliere Museo Nazionale di Ravenna
DTSTART;TZID=Europe/Rome;VALUE=DATE-TIME:20241213T170000
DTEND;TZID=Europe/Rome;VALUE=DATE-TIME:20241213T190000
DTSTAMP;VALUE=DATE-TIME:20260419T220925Z
UID:3668e6b65ca14071b0d8f9a1a0335874@disci.unibo.it
CREATED;VALUE=DATE-TIME:20241211T084217Z
DESCRIPTION:Presentazione del volume
LAST-MODIFIED;VALUE=DATE-TIME:20241211T084611Z
URL:https://disci.unibo.it/it/eventi/medagliere-museo-nazionale-di-ravenna
END:VEVENT
BEGIN:VTIMEZONE
TZID:Europe/Rome
X-LIC-LOCATION:Europe/Rome
BEGIN:STANDARD
DTSTART;VALUE=DATE-TIME:20241027T020000
TZNAME:CET
TZOFFSETFROM:+0200
TZOFFSETTO:+0100
END:STANDARD
END:VTIMEZONE
END:VCALENDAR
