BEGIN:VCALENDAR
VERSION:2.0
PRODID:-//Plone.org//NONSGML plone.app.event//EN
X-WR-TIMEZONE:Europe/Rome
BEGIN:VEVENT
SUMMARY:Medievalismo e metodo. Le regole del gioco
DTSTART;TZID=Europe/Rome;VALUE=DATE-TIME:20220609T160000
DTEND;TZID=Europe/Rome;VALUE=DATE-TIME:20220611T190000
DTSTAMP;VALUE=DATE-TIME:20260422T203046Z
UID:f38cd912aab2484d846841f9b83a7850@disci.unibo.it
CREATED;VALUE=DATE-TIME:20220606T110221Z
DESCRIPTION:Il medioevo fra di noi - VII Edizione\, Urbino e Gradara
LAST-MODIFIED;VALUE=DATE-TIME:20220606T111253Z
URL:https://disci.unibo.it/it/eventi/medievalismo-metodo-regole-gioco
END:VEVENT
BEGIN:VTIMEZONE
TZID:Europe/Rome
X-LIC-LOCATION:Europe/Rome
BEGIN:DAYLIGHT
DTSTART;VALUE=DATE-TIME:20220327T030000
TZNAME:CEST
TZOFFSETFROM:+0100
TZOFFSETTO:+0200
END:DAYLIGHT
END:VTIMEZONE
END:VCALENDAR
