BEGIN:VCALENDAR
VERSION:2.0
PRODID:-//Plone.org//NONSGML plone.app.event//EN
X-WR-TIMEZONE:Europe/Rome
BEGIN:VEVENT
SUMMARY:Medioevo fantastico. Invenzione di uno stile tra fine '800 e inizi
 o '900
DTSTART;TZID=Europe/Rome;VALUE=DATE-TIME:20170504T110000
DTEND;TZID=Europe/Rome;VALUE=DATE-TIME:20170504T130000
DTSTAMP;VALUE=DATE-TIME:20260422T140723Z
UID:dfd2acacb37e4765b0c76de7d6bdac0d@disci.unibo.it
CREATED;VALUE=DATE-TIME:20170503T060119Z
DESCRIPTION:Seminario.
LAST-MODIFIED;VALUE=DATE-TIME:20170503T061101Z
URL:https://disci.unibo.it/it/eventi/medioevo-fantastico.-invenzione-di-un
 o-stile-tra-fine-800-e-inizio-900
END:VEVENT
BEGIN:VTIMEZONE
TZID:Europe/Rome
X-LIC-LOCATION:Europe/Rome
BEGIN:DAYLIGHT
DTSTART;VALUE=DATE-TIME:20170326T030000
TZNAME:CEST
TZOFFSETFROM:+0100
TZOFFSETTO:+0200
END:DAYLIGHT
END:VTIMEZONE
END:VCALENDAR
