BEGIN:VCALENDAR
VERSION:2.0
PRODID:-//Plone.org//NONSGML plone.app.event//EN
X-WR-TIMEZONE:Europe/Rome
BEGIN:VEVENT
SUMMARY:Medioevo “misterioso” tra archeologia\, miracoli\, esoterismo\
 , simboli e tradizioni
DTSTART;TZID=Europe/Rome;VALUE=DATE-TIME:20220610T093000
DTEND;TZID=Europe/Rome;VALUE=DATE-TIME:20220610T180000
DTSTAMP;VALUE=DATE-TIME:20260422T122440Z
UID:17dd85a04699436590c218cdfb3aeb54@disci.unibo.it
CREATED;VALUE=DATE-TIME:20220601T134151Z
DESCRIPTION:Convegno di studi
LAST-MODIFIED;VALUE=DATE-TIME:20220601T143400Z
URL:https://disci.unibo.it/it/eventi/medioevo-misterioso-tra-archeologia-m
 iracoli-esoterismo-simboli-e-tradizioni
END:VEVENT
BEGIN:VTIMEZONE
TZID:Europe/Rome
X-LIC-LOCATION:Europe/Rome
BEGIN:DAYLIGHT
DTSTART;VALUE=DATE-TIME:20220327T030000
TZNAME:CEST
TZOFFSETFROM:+0100
TZOFFSETTO:+0200
END:DAYLIGHT
END:VTIMEZONE
END:VCALENDAR
