BEGIN:VCALENDAR
VERSION:2.0
PRODID:-//Plone.org//NONSGML plone.app.event//EN
X-WR-TIMEZONE:Europe/Rome
BEGIN:VEVENT
SUMMARY:Mens-a 2019 sul Pensiero Ospitale e Cosmopolitismo
DTSTART;TZID=Europe/Rome;VALUE=DATE-TIME:20190523T203000
DTEND;TZID=Europe/Rome;VALUE=DATE-TIME:20190525T230000
DTSTAMP;VALUE=DATE-TIME:20260420T212600Z
UID:8e27c4026dd047569e3560257106aca8@disci.unibo.it
CREATED;VALUE=DATE-TIME:20190503T055405Z
DESCRIPTION:Tema 2019: La Memoria e il Possibile
LAST-MODIFIED;VALUE=DATE-TIME:20210302T150317Z
URL:https://disci.unibo.it/it/eventi/mens-a-2019-suk
END:VEVENT
BEGIN:VTIMEZONE
TZID:Europe/Rome
X-LIC-LOCATION:Europe/Rome
BEGIN:DAYLIGHT
DTSTART;VALUE=DATE-TIME:20190331T030000
TZNAME:CEST
TZOFFSETFROM:+0100
TZOFFSETTO:+0200
END:DAYLIGHT
END:VTIMEZONE
END:VCALENDAR
