BEGIN:VCALENDAR
VERSION:2.0
PRODID:-//Plone.org//NONSGML plone.app.event//EN
X-WR-TIMEZONE:Europe/Rome
BEGIN:VEVENT
SUMMARY:«Mezclando cosas santas y sagradas con las profanas» Inquisizion
 e\, magia africana e corpi femminili in Nuova Spagna nel XVI secolo. Matte
 o Lazzari (Sapienza Università di Roma)
DTSTART;TZID=Europe/Rome;VALUE=DATE-TIME:20250226T150000
DTEND;TZID=Europe/Rome;VALUE=DATE-TIME:20250226T170000
DTSTAMP;VALUE=DATE-TIME:20260419T121939Z
UID:05e11e0adebe4e0085bed0377bd08742@disci.unibo.it
CREATED;VALUE=DATE-TIME:20250225T103632Z
DESCRIPTION:Ciclo di seminari: "FONTI E METODOLOGIE DELLA RICERCA STORICA"
  a.a. 2024/2025.
LAST-MODIFIED;VALUE=DATE-TIME:20250225T111447Z
URL:https://disci.unibo.it/it/eventi/mezclando-cosas-santas-y-sagradas-con
 -las-profanas-inquisizione-magia-africana-e-corpi-femminili-in-nuova-spagn
 a-nel-xvi-secolo-matteo-lazzari-sapienza-universita-di-roma
END:VEVENT
BEGIN:VTIMEZONE
TZID:Europe/Rome
X-LIC-LOCATION:Europe/Rome
BEGIN:STANDARD
DTSTART;VALUE=DATE-TIME:20241027T020000
TZNAME:CET
TZOFFSETFROM:+0200
TZOFFSETTO:+0100
END:STANDARD
END:VTIMEZONE
END:VCALENDAR
