BEGIN:VCALENDAR
VERSION:2.0
PRODID:-//Plone.org//NONSGML plone.app.event//EN
X-WR-TIMEZONE:Europe/Rome
BEGIN:VEVENT
SUMMARY:Monte Sole dopo la strage: la costruzione di un luogo della memori
 a
DTSTART;TZID=Europe/Rome;VALUE=DATE-TIME:20211023T100000
DTEND;TZID=Europe/Rome;VALUE=DATE-TIME:20211023T130000
DTSTAMP;VALUE=DATE-TIME:20260423T015101Z
UID:84a033807e544676b4ad3a6cb2ad167e@disci.unibo.it
CREATED;VALUE=DATE-TIME:20211014T084027Z
DESCRIPTION:Incontro promosso dal DISCI e dal Comitato regionale per le on
 oranze ai caduti di Marzabotto.
LAST-MODIFIED;VALUE=DATE-TIME:20211014T090210Z
URL:https://disci.unibo.it/it/eventi/monte-sole-dopo-la-strage-la-costruzi
 one-di-un-luogo-della-memoria
END:VEVENT
BEGIN:VTIMEZONE
TZID:Europe/Rome
X-LIC-LOCATION:Europe/Rome
BEGIN:DAYLIGHT
DTSTART;VALUE=DATE-TIME:20210328T030000
TZNAME:CEST
TZOFFSETFROM:+0100
TZOFFSETTO:+0200
END:DAYLIGHT
END:VTIMEZONE
END:VCALENDAR
