BEGIN:VCALENDAR
VERSION:2.0
PRODID:-//Plone.org//NONSGML plone.app.event//EN
X-WR-TIMEZONE:Europe/Rome
BEGIN:VEVENT
SUMMARY:NeTeRiGe - New Technologies e Ricerca Geografica - Programma 
DTSTART;TZID=Europe/Rome;VALUE=DATE-TIME:20161201T100000
DTEND;TZID=Europe/Rome;VALUE=DATE-TIME:20161201T190000
DTSTAMP;VALUE=DATE-TIME:20260422T150442Z
UID:2798766ee8db47d4a177f7c9bb0e7e0a@disci.unibo.it
CREATED;VALUE=DATE-TIME:20161123T081445Z
DESCRIPTION:Giornata di Studi
LAST-MODIFIED;VALUE=DATE-TIME:20161123T110928Z
URL:https://disci.unibo.it/it/eventi/neterige-new-technologies-e-ricerca-g
 eografica-programma
END:VEVENT
BEGIN:VTIMEZONE
TZID:Europe/Rome
X-LIC-LOCATION:Europe/Rome
BEGIN:STANDARD
DTSTART;VALUE=DATE-TIME:20161030T020000
TZNAME:CET
TZOFFSETFROM:+0200
TZOFFSETTO:+0100
END:STANDARD
END:VTIMEZONE
END:VCALENDAR
