BEGIN:VCALENDAR
VERSION:2.0
PRODID:-//Plone.org//NONSGML plone.app.event//EN
X-WR-TIMEZONE:Europe/Rome
BEGIN:VEVENT
SUMMARY:New Research on Early City-States of Mesopotamia and Syria
DTSTART;VALUE=DATE:20241211
DTEND;VALUE=DATE:20241212
DTSTAMP;VALUE=DATE-TIME:20260419T140842Z
UID:cbed16462b504b4f957faa9e42f26ec4@disci.unibo.it
CREATED;VALUE=DATE-TIME:20241205T083816Z
DESCRIPTION:International workshop.
LAST-MODIFIED;VALUE=DATE-TIME:20241205T085206Z
URL:https://disci.unibo.it/it/eventi/new-research-on-early-city-states-of-
 mesopotamia-and-syria
END:VEVENT
END:VCALENDAR
