BEGIN:VCALENDAR
VERSION:2.0
PRODID:-//Plone.org//NONSGML plone.app.event//EN
X-WR-TIMEZONE:Europe/Rome
BEGIN:VEVENT
SUMMARY:Oggetti nudi\, oggetti vestiti scalzi nel chiostro
DTSTART;TZID=Europe/Rome;VALUE=DATE-TIME:20220926T083000
DTEND;TZID=Europe/Rome;VALUE=DATE-TIME:20220927T183000
DTSTAMP;VALUE=DATE-TIME:20260422T221502Z
UID:77c0984f9d0446c1b212fc5f5042581d@disci.unibo.it
CREATED;VALUE=DATE-TIME:20220907T101416Z
DESCRIPTION:Mostra a cura del Corso in Storia delle religioni: oggetti e p
 atrimoni\, Francesca Sbardella e Laura Pasquini.
LAST-MODIFIED;VALUE=DATE-TIME:20220907T103903Z
URL:https://disci.unibo.it/it/eventi/oggetti-nudi-oggetti-vestiti-scalzi-n
 el-chiostro
END:VEVENT
BEGIN:VTIMEZONE
TZID:Europe/Rome
X-LIC-LOCATION:Europe/Rome
BEGIN:DAYLIGHT
DTSTART;VALUE=DATE-TIME:20220327T030000
TZNAME:CEST
TZOFFSETFROM:+0100
TZOFFSETTO:+0200
END:DAYLIGHT
END:VTIMEZONE
END:VCALENDAR
