BEGIN:VCALENDAR
VERSION:2.0
PRODID:-//Plone.org//NONSGML plone.app.event//EN
X-WR-TIMEZONE:Europe/Rome
BEGIN:VEVENT
SUMMARY:Open Day Lauree Magistrali DiSCi
DTSTART;TZID=Europe/Rome;VALUE=DATE-TIME:20170509T140000
DTEND;TZID=Europe/Rome;VALUE=DATE-TIME:20170509T183000
DTSTAMP;VALUE=DATE-TIME:20260420T181939Z
UID:9d7628c56c12429ea145847cc892bae6@disci.unibo.it
CREATED;VALUE=DATE-TIME:20170418T081125Z
LAST-MODIFIED;VALUE=DATE-TIME:20210130T011422Z
URL:https://disci.unibo.it/it/eventi/open-day-lauree-magistrali
END:VEVENT
BEGIN:VTIMEZONE
TZID:Europe/Rome
X-LIC-LOCATION:Europe/Rome
BEGIN:DAYLIGHT
DTSTART;VALUE=DATE-TIME:20170326T030000
TZNAME:CEST
TZOFFSETFROM:+0100
TZOFFSETTO:+0200
END:DAYLIGHT
END:VTIMEZONE
END:VCALENDAR
