BEGIN:VCALENDAR
VERSION:2.0
PRODID:-//Plone.org//NONSGML plone.app.event//EN
X-WR-TIMEZONE:Europe/Rome
BEGIN:VEVENT
SUMMARY:Pasta e Fascismo - Posticipo del seminario
DTSTART;TZID=Europe/Rome;VALUE=DATE-TIME:20161202T150000
DTEND;TZID=Europe/Rome;VALUE=DATE-TIME:20161202T180000
DTSTAMP;VALUE=DATE-TIME:20260422T185508Z
UID:a236f39be5d04c22bd8dc1511f127b3e@disci.unibo.it
CREATED;VALUE=DATE-TIME:20161130T105041Z
DESCRIPTION:Seminario di cucina politica
LAST-MODIFIED;VALUE=DATE-TIME:20161201T093922Z
URL:https://disci.unibo.it/it/eventi/pasta-e-fascismo-posticipo-del-semina
 rio
END:VEVENT
BEGIN:VTIMEZONE
TZID:Europe/Rome
X-LIC-LOCATION:Europe/Rome
BEGIN:STANDARD
DTSTART;VALUE=DATE-TIME:20161030T020000
TZNAME:CET
TZOFFSETFROM:+0200
TZOFFSETTO:+0100
END:STANDARD
END:VTIMEZONE
END:VCALENDAR
