BEGIN:VCALENDAR
VERSION:2.0
PRODID:-//Plone.org//NONSGML plone.app.event//EN
X-WR-TIMEZONE:Europe/Rome
BEGIN:VEVENT
SUMMARY:Philobiblos. Scritti in onore di Giovanni Geraci
DTSTART;TZID=Europe/Rome;VALUE=DATE-TIME:20191125T150000
DTEND;TZID=Europe/Rome;VALUE=DATE-TIME:20191125T180000
DTSTAMP;VALUE=DATE-TIME:20260422T204528Z
UID:352ad8635e4d494dbc6ca1bfe1c312a4@disci.unibo.it
CREATED;VALUE=DATE-TIME:20191104T083114Z
DESCRIPTION:Presentazione del volume.
LAST-MODIFIED;VALUE=DATE-TIME:20191104T090336Z
URL:https://disci.unibo.it/it/eventi/philobiblos-scritti-in-onore-di-giova
 nni-geraci
END:VEVENT
BEGIN:VTIMEZONE
TZID:Europe/Rome
X-LIC-LOCATION:Europe/Rome
BEGIN:STANDARD
DTSTART;VALUE=DATE-TIME:20191027T020000
TZNAME:CET
TZOFFSETFROM:+0200
TZOFFSETTO:+0100
END:STANDARD
END:VTIMEZONE
END:VCALENDAR
