BEGIN:VCALENDAR
VERSION:2.0
PRODID:-//Plone.org//NONSGML plone.app.event//EN
X-WR-TIMEZONE:Europe/Rome
BEGIN:VEVENT
SUMMARY:Presentazione del libro Giordano di Piero Bevilacqua
DTSTART;TZID=Europe/Rome;VALUE=DATE-TIME:20161128T170000
DTEND;TZID=Europe/Rome;VALUE=DATE-TIME:20161128T190000
DTSTAMP;VALUE=DATE-TIME:20260422T185509Z
UID:ebcf7a757bb5449b8fc124da70511b6e@disci.unibo.it
CREATED;VALUE=DATE-TIME:20161116T104343Z
LAST-MODIFIED;VALUE=DATE-TIME:20161116T105740Z
URL:https://disci.unibo.it/it/eventi/presentazione-del-libro-giordano-di-p
 iero-bevilacqua
END:VEVENT
BEGIN:VTIMEZONE
TZID:Europe/Rome
X-LIC-LOCATION:Europe/Rome
BEGIN:STANDARD
DTSTART;VALUE=DATE-TIME:20161030T020000
TZNAME:CET
TZOFFSETFROM:+0200
TZOFFSETTO:+0100
END:STANDARD
END:VTIMEZONE
END:VCALENDAR
