BEGIN:VCALENDAR
VERSION:2.0
PRODID:-//Plone.org//NONSGML plone.app.event//EN
X-WR-TIMEZONE:Europe/Rome
BEGIN:VEVENT
SUMMARY:Presentazione del libro "La República de Sabios"
DTSTART;TZID=Europe/Rome;VALUE=DATE-TIME:20211213T160000
DTEND;TZID=Europe/Rome;VALUE=DATE-TIME:20211213T180000
DTSTAMP;VALUE=DATE-TIME:20260425T050726Z
UID:39d737a76f8d4b4e9e3aaa9d6e8c286e@disci.unibo.it
CREATED;VALUE=DATE-TIME:20211126T162827Z
LAST-MODIFIED;VALUE=DATE-TIME:20211126T162829Z
URL:https://disci.unibo.it/it/eventi/presentazione-del-libro-la-republica-
 de-sabios
END:VEVENT
BEGIN:VTIMEZONE
TZID:Europe/Rome
X-LIC-LOCATION:Europe/Rome
BEGIN:STANDARD
DTSTART;VALUE=DATE-TIME:20211031T020000
TZNAME:CET
TZOFFSETFROM:+0200
TZOFFSETTO:+0100
END:STANDARD
END:VTIMEZONE
END:VCALENDAR
