BEGIN:VCALENDAR
VERSION:2.0
PRODID:-//Plone.org//NONSGML plone.app.event//EN
X-WR-TIMEZONE:Europe/Rome
BEGIN:VEVENT
SUMMARY:Presentazione del volume di scritti di Lucia Criscuolo
DTSTART;TZID=Europe/Rome;VALUE=DATE-TIME:20241213T173000
DTEND;TZID=Europe/Rome;VALUE=DATE-TIME:20241213T190000
DTSTAMP;VALUE=DATE-TIME:20260419T220946Z
UID:8ee33d7c87ad4ff5902851083a9d6b72@disci.unibo.it
CREATED;VALUE=DATE-TIME:20241212T112705Z
DESCRIPTION:Incontro a cura della Sezione di Storia antica.
LAST-MODIFIED;VALUE=DATE-TIME:20241212T113434Z
URL:https://disci.unibo.it/it/eventi/presentazione-del-volume-di-scritti-d
 i-lucia-criscuolo
END:VEVENT
BEGIN:VTIMEZONE
TZID:Europe/Rome
X-LIC-LOCATION:Europe/Rome
BEGIN:STANDARD
DTSTART;VALUE=DATE-TIME:20241027T020000
TZNAME:CET
TZOFFSETFROM:+0200
TZOFFSETTO:+0100
END:STANDARD
END:VTIMEZONE
END:VCALENDAR
