BEGIN:VCALENDAR
VERSION:2.0
PRODID:-//Plone.org//NONSGML plone.app.event//EN
X-WR-TIMEZONE:Europe/Rome
BEGIN:VEVENT
SUMMARY:Presentazione del Volume "Le forme della crisi" Produzione ceramic
 he e commerci nell'Italia centrale tra Romani e Longobardi (III - VIII sec
 . d.C.)
DTSTART;TZID=Europe/Rome;VALUE=DATE-TIME:20150209T180000
DTEND;TZID=Europe/Rome;VALUE=DATE-TIME:20150209T200000
DTSTAMP;VALUE=DATE-TIME:20260419T164137Z
UID:1d452b29dfa841e9beedad20a39ef4c3@disci.unibo.it
CREATED;VALUE=DATE-TIME:20150113T083401Z
DESCRIPTION:Atti del Convegno\, Spoleto-Campello sul Clitunno\, 5-7 ottobr
 e 2012. A cura di Enrico Cirelli\, Francesca Diosono\, Helen Patterson.
LAST-MODIFIED;VALUE=DATE-TIME:20150113T090119Z
URL:https://disci.unibo.it/it/eventi/presentazione-del-volume-le-forme-del
 la-crisi-produzione-deramiche-e-commerci-nellitalia-centrale-tra-romani-e-
 longobardi-iii-viii-sec.-d.c.
END:VEVENT
BEGIN:VTIMEZONE
TZID:Europe/Rome
X-LIC-LOCATION:Europe/Rome
BEGIN:STANDARD
DTSTART;VALUE=DATE-TIME:20141026T020000
TZNAME:CET
TZOFFSETFROM:+0200
TZOFFSETTO:+0100
END:STANDARD
END:VTIMEZONE
END:VCALENDAR
