BEGIN:VCALENDAR
VERSION:2.0
PRODID:-//Plone.org//NONSGML plone.app.event//EN
X-WR-TIMEZONE:Europe/Rome
BEGIN:VEVENT
SUMMARY:Presentazione dei volumi "Presenze femminili a Roma nella lunga et
 à moderna" e "Sensibilità moderne. Storie di affetti\, passioni e sensi 
 (secoli XV-XVIII)"
DTSTART;TZID=Europe/Rome;VALUE=DATE-TIME:20231205T143000
DTEND;TZID=Europe/Rome;VALUE=DATE-TIME:20231205T163000
DTSTAMP;VALUE=DATE-TIME:20260421T011336Z
UID:912ebd93238d4cafb51c6634b35ca073@disci.unibo.it
CREATED;VALUE=DATE-TIME:20231201T135725Z
DESCRIPTION:Incontro nell'ambito del ciclo di seminari: Proposte di ricerc
 a e di lettura tra storia e memoria delle donne e di genere e Settecento I
 tinerante
LAST-MODIFIED;VALUE=DATE-TIME:20231201T140021Z
URL:https://disci.unibo.it/it/eventi/presentazione-volumi-presenze-femmini
 li-roma-lunga-eta-moderna-sensibilita-moderne-storie-affetti-passioni-sens
 i-secoli-xv-xviii
END:VEVENT
BEGIN:VTIMEZONE
TZID:Europe/Rome
X-LIC-LOCATION:Europe/Rome
BEGIN:STANDARD
DTSTART;VALUE=DATE-TIME:20231029T020000
TZNAME:CET
TZOFFSETFROM:+0200
TZOFFSETTO:+0100
END:STANDARD
END:VTIMEZONE
END:VCALENDAR
