BEGIN:VCALENDAR
VERSION:2.0
PRODID:-//Plone.org//NONSGML plone.app.event//EN
X-WR-TIMEZONE:Europe/Rome
BEGIN:VEVENT
SUMMARY:Proiezione e discussione di “Radiography of a Family” – Iran
 \, 2020
DTSTART;TZID=Europe/Rome;VALUE=DATE-TIME:20230418T163000
DTEND;TZID=Europe/Rome;VALUE=DATE-TIME:20230418T183000
DTSTAMP;VALUE=DATE-TIME:20260422T230047Z
UID:547a89d916054889895e3ab4759f7af6@disci.unibo.it
CREATED;VALUE=DATE-TIME:20230413T083930Z
DESCRIPTION:Seminario permanente di teoria politica femminista\, a cura di
  Paola Rudan
LAST-MODIFIED;VALUE=DATE-TIME:20230413T084400Z
URL:https://disci.unibo.it/it/eventi/proiezione-e-discussione-di-radiograp
 hy-of-a-family-iran-2020
END:VEVENT
BEGIN:VTIMEZONE
TZID:Europe/Rome
X-LIC-LOCATION:Europe/Rome
BEGIN:DAYLIGHT
DTSTART;VALUE=DATE-TIME:20230326T030000
TZNAME:CEST
TZOFFSETFROM:+0100
TZOFFSETTO:+0200
END:DAYLIGHT
END:VTIMEZONE
END:VCALENDAR
