BEGIN:VCALENDAR
VERSION:2.0
PRODID:-//Plone.org//NONSGML plone.app.event//EN
X-WR-TIMEZONE:Europe/Rome
BEGIN:VEVENT
SUMMARY:Quando le lavoratrici si ripresero la cultura.
DTSTART;TZID=Europe/Rome;VALUE=DATE-TIME:20160527T170000
DTEND;TZID=Europe/Rome;VALUE=DATE-TIME:20160527T190000
DTSTAMP;VALUE=DATE-TIME:20260419T151723Z
UID:815b1cb5637f4e4ebe6a3d1b853b91ca@disci.unibo.it
CREATED;VALUE=DATE-TIME:20160520T060208Z
LAST-MODIFIED;VALUE=DATE-TIME:20160520T061129Z
URL:https://disci.unibo.it/it/eventi/quando-le-lavoratrici-si-ripresero-la
 -cultura
END:VEVENT
BEGIN:VTIMEZONE
TZID:Europe/Rome
X-LIC-LOCATION:Europe/Rome
BEGIN:DAYLIGHT
DTSTART;VALUE=DATE-TIME:20160327T030000
TZNAME:CEST
TZOFFSETFROM:+0100
TZOFFSETTO:+0200
END:DAYLIGHT
END:VTIMEZONE
END:VCALENDAR
