BEGIN:VCALENDAR
VERSION:2.0
PRODID:-//Plone.org//NONSGML plone.app.event//EN
X-WR-TIMEZONE:Europe/Rome
BEGIN:VEVENT
SUMMARY:Ricerca e valorizzazione. Questioni di archeologia\, arte e museol
 ogia
DTSTART;TZID=Europe/Rome;VALUE=DATE-TIME:20170504T093000
DTEND;TZID=Europe/Rome;VALUE=DATE-TIME:20170506T190000
DTSTAMP;VALUE=DATE-TIME:20260422T191928Z
UID:2fc20eceba064cf99f2cc926c6d06d0e@disci.unibo.it
CREATED;VALUE=DATE-TIME:20170427T121135Z
DESCRIPTION:Convegno di studi internazionale e interdisciplinare 
LAST-MODIFIED;VALUE=DATE-TIME:20210309T014119Z
URL:https://disci.unibo.it/it/eventi/ricerca-valorizzazione-archeologia-ar
 te-museologia
END:VEVENT
BEGIN:VTIMEZONE
TZID:Europe/Rome
X-LIC-LOCATION:Europe/Rome
BEGIN:DAYLIGHT
DTSTART;VALUE=DATE-TIME:20170326T030000
TZNAME:CEST
TZOFFSETFROM:+0100
TZOFFSETTO:+0200
END:DAYLIGHT
END:VTIMEZONE
END:VCALENDAR
