BEGIN:VCALENDAR
VERSION:2.0
PRODID:-//Plone.org//NONSGML plone.app.event//EN
X-WR-TIMEZONE:Europe/Rome
BEGIN:VEVENT
SUMMARY:Ricerche a Confronto XI
DTSTART;TZID=Europe/Rome;VALUE=DATE-TIME:20161020T170000
DTEND;TZID=Europe/Rome;VALUE=DATE-TIME:20161201T190000
DTSTAMP;VALUE=DATE-TIME:20260423T030946Z
UID:23e063f0aa6c42cdbcddaf6ddd8c05c7@disci.unibo.it
CREATED;VALUE=DATE-TIME:20161012T083854Z
LAST-MODIFIED;VALUE=DATE-TIME:20161012T085720Z
URL:https://disci.unibo.it/it/eventi/ricerche-a-confronto-xi
END:VEVENT
BEGIN:VTIMEZONE
TZID:Europe/Rome
X-LIC-LOCATION:Europe/Rome
BEGIN:DAYLIGHT
DTSTART;VALUE=DATE-TIME:20160327T030000
TZNAME:CEST
TZOFFSETFROM:+0100
TZOFFSETTO:+0200
END:DAYLIGHT
BEGIN:STANDARD
DTSTART;VALUE=DATE-TIME:20161030T020000
TZNAME:CET
TZOFFSETFROM:+0200
TZOFFSETTO:+0100
END:STANDARD
END:VTIMEZONE
END:VCALENDAR
