BEGIN:VCALENDAR
VERSION:2.0
PRODID:-//Plone.org//NONSGML plone.app.event//EN
X-WR-TIMEZONE:Europe/Rome
BEGIN:VEVENT
SUMMARY:Ruri. Abitare nel territorio: la regio VIII. Call for poster
DTSTART;VALUE=DATE:20170214
DTEND;VALUE=DATE:20170221
DTSTAMP;VALUE=DATE-TIME:20260422T204719Z
UID:aacecb75563a42fe8c6c5bea40cca155@disci.unibo.it
CREATED;VALUE=DATE-TIME:20170214T115034Z
LAST-MODIFIED;VALUE=DATE-TIME:20170214T115541Z
URL:https://disci.unibo.it/it/eventi/ruri.-abitare-nel-territorio-la-regio
 -viii.-call-for-poster
END:VEVENT
END:VCALENDAR
