BEGIN:VCALENDAR
VERSION:2.0
PRODID:-//Plone.org//NONSGML plone.app.event//EN
X-WR-TIMEZONE:Europe/Rome
BEGIN:VEVENT
SUMMARY:Saecula: Questioni di storia religiosa dal tardo medioevo all'età
  contemporanea [Ciclo sospeso]
DTSTART;TZID=Europe/Rome;VALUE=DATE-TIME:20191212T140000
DTEND;TZID=Europe/Rome;VALUE=DATE-TIME:20200428T160000
DTSTAMP;VALUE=DATE-TIME:20260422T122147Z
UID:ab35d5028eef4af5b55ba1fa99126b33@disci.unibo.it
CREATED;VALUE=DATE-TIME:20191128T100411Z
DESCRIPTION:Ciclo di seminari a cura di C. Facchini\, V. Lavenia e F. Sofi
 a.
LAST-MODIFIED;VALUE=DATE-TIME:20210301T133607Z
URL:https://disci.unibo.it/it/eventi/saecula-questioni-di-storia-religiosa
 -dal-tardo-medioevo-alleta-contemporanea
END:VEVENT
BEGIN:VTIMEZONE
TZID:Europe/Rome
X-LIC-LOCATION:Europe/Rome
BEGIN:STANDARD
DTSTART;VALUE=DATE-TIME:20191027T020000
TZNAME:CET
TZOFFSETFROM:+0200
TZOFFSETTO:+0100
END:STANDARD
BEGIN:DAYLIGHT
DTSTART;VALUE=DATE-TIME:20200329T030000
TZNAME:CEST
TZOFFSETFROM:+0100
TZOFFSETTO:+0200
END:DAYLIGHT
END:VTIMEZONE
END:VCALENDAR
