BEGIN:VCALENDAR
VERSION:2.0
PRODID:-//Plone.org//NONSGML plone.app.event//EN
X-WR-TIMEZONE:Europe/Rome
BEGIN:VEVENT
SUMMARY:Scrivere il sanscrito al computer\, in devanāgarī e in traslitte
 razione
DTSTART;TZID=Europe/Rome;VALUE=DATE-TIME:20150219T140000
DTEND;TZID=Europe/Rome;VALUE=DATE-TIME:20150219T170000
DTSTAMP;VALUE=DATE-TIME:20260419T232938Z
UID:a5e0168c42254b92a45d404009bdca32@disci.unibo.it
CREATED;VALUE=DATE-TIME:20150203T081946Z
DESCRIPTION:Seminario indologico.
LAST-MODIFIED;VALUE=DATE-TIME:20150203T083617Z
URL:https://disci.unibo.it/it/eventi/scrivere-il-sanscrito-al-computer-in-
 devanagari-e-in-traslitterazione-1
END:VEVENT
BEGIN:VTIMEZONE
TZID:Europe/Rome
X-LIC-LOCATION:Europe/Rome
BEGIN:STANDARD
DTSTART;VALUE=DATE-TIME:20141026T020000
TZNAME:CET
TZOFFSETFROM:+0200
TZOFFSETTO:+0100
END:STANDARD
END:VTIMEZONE
END:VCALENDAR
