BEGIN:VCALENDAR
VERSION:2.0
PRODID:-//Plone.org//NONSGML plone.app.event//EN
X-WR-TIMEZONE:Europe/Rome
BEGIN:VEVENT
SUMMARY:Seminario: Il libro a stampa come fonte storica: testo e materiali
 tà
DTSTART;TZID=Europe/Rome;VALUE=DATE-TIME:20170510T150000
DTEND;TZID=Europe/Rome;VALUE=DATE-TIME:20170510T170000
DTSTAMP;VALUE=DATE-TIME:20260420T171341Z
UID:113be137d55a4418864447265a9b3f6c@disci.unibo.it
CREATED;VALUE=DATE-TIME:20170503T084203Z
LAST-MODIFIED;VALUE=DATE-TIME:20170503T084333Z
URL:https://disci.unibo.it/it/eventi/seminario-il-libro-a-stampa-come-font
 e-storica-testo-e-materialita
END:VEVENT
BEGIN:VTIMEZONE
TZID:Europe/Rome
X-LIC-LOCATION:Europe/Rome
BEGIN:DAYLIGHT
DTSTART;VALUE=DATE-TIME:20170326T030000
TZNAME:CEST
TZOFFSETFROM:+0100
TZOFFSETTO:+0200
END:DAYLIGHT
END:VTIMEZONE
END:VCALENDAR
