BEGIN:VCALENDAR
VERSION:2.0
PRODID:-//Plone.org//NONSGML plone.app.event//EN
X-WR-TIMEZONE:Europe/Rome
BEGIN:VEVENT
SUMMARY:Simboli e valori di pace e concordia nella rappresentazione pubbli
 ca e istituzionale delle donne nella Roma antica (I SEC. A.C.-II SEC. D.C.
 ). Carmen M.ª Ruiz Viva
DTSTART;TZID=Europe/Rome;VALUE=DATE-TIME:20250429T150000
DTEND;TZID=Europe/Rome;VALUE=DATE-TIME:20250429T170000
DTSTAMP;VALUE=DATE-TIME:20260419T145728Z
UID:a179e86b015046b4b594877a861f54e5@disci.unibo.it
CREATED;VALUE=DATE-TIME:20250414T103805Z
DESCRIPTION:Seminario
LAST-MODIFIED;VALUE=DATE-TIME:20250414T103950Z
URL:https://disci.unibo.it/it/eventi/simboli-e-valori-di-pace-e-concordia-
 nella-rappresentazione-pubblica-e-istituzionale-delle-donne-nella-roma-ant
 ica-i-sec-a-c-ii-sec-d-c-carmen-m-ruiz-viva
END:VEVENT
BEGIN:VTIMEZONE
TZID:Europe/Rome
X-LIC-LOCATION:Europe/Rome
BEGIN:DAYLIGHT
DTSTART;VALUE=DATE-TIME:20250330T030000
TZNAME:CEST
TZOFFSETFROM:+0100
TZOFFSETTO:+0200
END:DAYLIGHT
END:VTIMEZONE
END:VCALENDAR
