BEGIN:VCALENDAR
VERSION:2.0
PRODID:-//Plone.org//NONSGML plone.app.event//EN
X-WR-TIMEZONE:Europe/Rome
BEGIN:VEVENT
SUMMARY:Storia dei principali sistemi di scrittura del subcontinente india
 no
DTSTART;TZID=Europe/Rome;VALUE=DATE-TIME:20161129T110000
DTEND;TZID=Europe/Rome;VALUE=DATE-TIME:20161129T140000
DTSTAMP;VALUE=DATE-TIME:20260422T185815Z
UID:e813c7d8969546d8b9b380fbf2ec0ef4@disci.unibo.it
CREATED;VALUE=DATE-TIME:20161122T071549Z
DESCRIPTION:Seminario indologico
LAST-MODIFIED;VALUE=DATE-TIME:20161122T072938Z
URL:https://disci.unibo.it/it/eventi/storia-dei-principali-sistemi-di-scri
 ttura-del-subcontinente-indiano-1
END:VEVENT
BEGIN:VTIMEZONE
TZID:Europe/Rome
X-LIC-LOCATION:Europe/Rome
BEGIN:STANDARD
DTSTART;VALUE=DATE-TIME:20161030T020000
TZNAME:CET
TZOFFSETFROM:+0200
TZOFFSETTO:+0100
END:STANDARD
END:VTIMEZONE
END:VCALENDAR
