BEGIN:VCALENDAR
VERSION:2.0
PRODID:-//Plone.org//NONSGML plone.app.event//EN
X-WR-TIMEZONE:Europe/Rome
BEGIN:VEVENT
SUMMARY:Storia e memoria della strage di Montesole
DTSTART;TZID=Europe/Rome;VALUE=DATE-TIME:20201010T100000
DTEND;TZID=Europe/Rome;VALUE=DATE-TIME:20201010T130000
DTSTAMP;VALUE=DATE-TIME:20260419T184233Z
UID:d20539f151b14b44b7da32710a737dd4@disci.unibo.it
CREATED;VALUE=DATE-TIME:20201006T100102Z
DESCRIPTION:Seminario a inviti
LAST-MODIFIED;VALUE=DATE-TIME:20210316T165438Z
URL:https://disci.unibo.it/it/eventi/storia-e-memoria-della-strage-di-mont
 esole
END:VEVENT
BEGIN:VTIMEZONE
TZID:Europe/Rome
X-LIC-LOCATION:Europe/Rome
BEGIN:DAYLIGHT
DTSTART;VALUE=DATE-TIME:20200329T030000
TZNAME:CEST
TZOFFSETFROM:+0100
TZOFFSETTO:+0200
END:DAYLIGHT
END:VTIMEZONE
END:VCALENDAR
