BEGIN:VCALENDAR
VERSION:2.0
PRODID:-//Plone.org//NONSGML plone.app.event//EN
X-WR-TIMEZONE:Europe/Rome
BEGIN:VEVENT
SUMMARY:Summer School on Global Studies and Critical Theory - Critical Dia
 logues
DTSTART;TZID=Europe/Rome;VALUE=DATE-TIME:20160629T203000
DTEND;TZID=Europe/Rome;VALUE=DATE-TIME:20160706T203000
DTSTAMP;VALUE=DATE-TIME:20260426T054404Z
UID:9d7ebe64c70347b7a90366f783022cf2@disci.unibo.it
CREATED;VALUE=DATE-TIME:20160622T070041Z
LAST-MODIFIED;VALUE=DATE-TIME:20210301T150741Z
URL:https://disci.unibo.it/it/eventi/summer-school-on-global-studies-and-c
 ritical-theory-critical-dialogues
END:VEVENT
BEGIN:VTIMEZONE
TZID:Europe/Rome
X-LIC-LOCATION:Europe/Rome
BEGIN:DAYLIGHT
DTSTART;VALUE=DATE-TIME:20160327T030000
TZNAME:CEST
TZOFFSETFROM:+0100
TZOFFSETTO:+0200
END:DAYLIGHT
END:VTIMEZONE
END:VCALENDAR
