BEGIN:VCALENDAR
VERSION:2.0
PRODID:-//Plone.org//NONSGML plone.app.event//EN
X-WR-TIMEZONE:Europe/Rome
BEGIN:VEVENT
SUMMARY:The Anatolian Civilizations Museum in Ankara
DTSTART;TZID=Europe/Rome;VALUE=DATE-TIME:20251125T110000
DTEND;TZID=Europe/Rome;VALUE=DATE-TIME:20251125T130000
DTSTAMP;VALUE=DATE-TIME:20260421T031712Z
UID:e290ddf194294fb68dc9bff55d8c519b@disci.unibo.it
CREATED;VALUE=DATE-TIME:20251113T084256Z
DESCRIPTION:Seminario - Scuola di specializzazione in Beni Archeologici
LAST-MODIFIED;VALUE=DATE-TIME:20251113T085324Z
URL:https://disci.unibo.it/it/eventi/the-anatolian-civilizations-museum-in
 -ankara
END:VEVENT
BEGIN:VTIMEZONE
TZID:Europe/Rome
X-LIC-LOCATION:Europe/Rome
BEGIN:STANDARD
DTSTART;VALUE=DATE-TIME:20251026T020000
TZNAME:CET
TZOFFSETFROM:+0200
TZOFFSETTO:+0100
END:STANDARD
END:VTIMEZONE
END:VCALENDAR
