BEGIN:VCALENDAR
VERSION:2.0
PRODID:-//Plone.org//NONSGML plone.app.event//EN
X-WR-TIMEZONE:Europe/Rome
BEGIN:VEVENT
SUMMARY:The Ottomans as "Other" or "Self" in Aeneas Silvius Piccolomini's 
 De Europa (1458)
DTSTART;TZID=Europe/Rome;VALUE=DATE-TIME:20151022T120000
DTEND;TZID=Europe/Rome;VALUE=DATE-TIME:20151022T133000
DTSTAMP;VALUE=DATE-TIME:20260422T095118Z
UID:02945a8ac1bb4187973eaa35faafee2d@disci.unibo.it
CREATED;VALUE=DATE-TIME:20151013T081242Z
DESCRIPTION:Lezione Seminariale ospitata dal corso di lingua e letteratura
  araba (prof. Cecere).
LAST-MODIFIED;VALUE=DATE-TIME:20151013T082950Z
URL:https://disci.unibo.it/it/eventi/the-ottomans-as-other-or-self-in-aene
 as-silvius-piccolominis-de-europa-1458
END:VEVENT
BEGIN:VTIMEZONE
TZID:Europe/Rome
X-LIC-LOCATION:Europe/Rome
BEGIN:DAYLIGHT
DTSTART;VALUE=DATE-TIME:20150329T030000
TZNAME:CEST
TZOFFSETFROM:+0100
TZOFFSETTO:+0200
END:DAYLIGHT
END:VTIMEZONE
END:VCALENDAR
