BEGIN:VCALENDAR
VERSION:2.0
PRODID:-//Plone.org//NONSGML plone.app.event//EN
X-WR-TIMEZONE:Europe/Rome
BEGIN:VEVENT
SUMMARY:The Renaissance of Catholic Biblical Scholarship and the Papacy (1
 450-1550)\, Wim François (KU Leuven)
DTSTART;TZID=Europe/Rome;VALUE=DATE-TIME:20250604T110000
DTEND;TZID=Europe/Rome;VALUE=DATE-TIME:20250604T130000
DTSTAMP;VALUE=DATE-TIME:20260423T145720Z
UID:b0aaa44e271642c182575a16ea2d81bc@disci.unibo.it
CREATED;VALUE=DATE-TIME:20250526T084701Z
DESCRIPTION:Ciclo di seminari a cura di Andrea Annese\, Cristiana Facchini
 \, Antonio Gerace.
LAST-MODIFIED;VALUE=DATE-TIME:20250526T085610Z
URL:https://disci.unibo.it/it/eventi/the-renaissance-of-catholic-biblical-
 scholarship-and-the-papacy-1450-1550-wim-fran-ois-ku-leuven
END:VEVENT
BEGIN:VTIMEZONE
TZID:Europe/Rome
X-LIC-LOCATION:Europe/Rome
BEGIN:DAYLIGHT
DTSTART;VALUE=DATE-TIME:20250330T030000
TZNAME:CEST
TZOFFSETFROM:+0100
TZOFFSETTO:+0200
END:DAYLIGHT
END:VTIMEZONE
END:VCALENDAR
