BEGIN:VCALENDAR
VERSION:2.0
PRODID:-//Plone.org//NONSGML plone.app.event//EN
X-WR-TIMEZONE:Europe/Rome
BEGIN:VEVENT
SUMMARY:Tribunali sciaraitici in Israele tra passato e presente
DTSTART;TZID=Europe/Rome;VALUE=DATE-TIME:20170504T110000
DTEND;TZID=Europe/Rome;VALUE=DATE-TIME:20170504T130000
DTSTAMP;VALUE=DATE-TIME:20260420T144313Z
UID:9a8b8d849aa24df3adc58126107e5aaa@disci.unibo.it
CREATED;VALUE=DATE-TIME:20170407T061545Z
DESCRIPTION:Seminario.
LAST-MODIFIED;VALUE=DATE-TIME:20170407T062351Z
URL:https://disci.unibo.it/it/eventi/tribunali-sciaraitici-in-israele-tra-
 passato-e-presente
END:VEVENT
BEGIN:VTIMEZONE
TZID:Europe/Rome
X-LIC-LOCATION:Europe/Rome
BEGIN:DAYLIGHT
DTSTART;VALUE=DATE-TIME:20170326T030000
TZNAME:CEST
TZOFFSETFROM:+0100
TZOFFSETTO:+0200
END:DAYLIGHT
END:VTIMEZONE
END:VCALENDAR
