BEGIN:VCALENDAR
VERSION:2.0
PRODID:-//Plone.org//NONSGML plone.app.event//EN
X-WR-TIMEZONE:Europe/Rome
BEGIN:VEVENT
SUMMARY:Urbanized landscapes in early Syro-Mesopotamia and prehispanic Mes
 oamerica
DTSTART;TZID=Europe/Rome;VALUE=DATE-TIME:20150209T143000
DTEND;TZID=Europe/Rome;VALUE=DATE-TIME:20150210T130000
DTSTAMP;VALUE=DATE-TIME:20260419T151107Z
UID:46fd8fc8d54b4ec4b9b0d75854496a5b@disci.unibo.it
CREATED;VALUE=DATE-TIME:20150130T163851Z
DESCRIPTION:International Colloquium
LAST-MODIFIED;VALUE=DATE-TIME:20210301T134226Z
URL:https://disci.unibo.it/it/eventi/urbanized-landscapes-in-early-syro-me
 sopotamia-and-prehispanic-mesoamerica
END:VEVENT
BEGIN:VTIMEZONE
TZID:Europe/Rome
X-LIC-LOCATION:Europe/Rome
BEGIN:STANDARD
DTSTART;VALUE=DATE-TIME:20141026T020000
TZNAME:CET
TZOFFSETFROM:+0200
TZOFFSETTO:+0100
END:STANDARD
END:VTIMEZONE
END:VCALENDAR
