BEGIN:VCALENDAR
VERSION:2.0
PRODID:-//Plone.org//NONSGML plone.app.event//EN
X-WR-TIMEZONE:Europe/Rome
BEGIN:VEVENT
SUMMARY:Utilisation de l’IA générative dans la formation : opportunit
 é ou risque ?
DTSTART;TZID=Europe/Rome;VALUE=DATE-TIME:20250505T150000
DTEND;TZID=Europe/Rome;VALUE=DATE-TIME:20250505T170000
DTSTAMP;VALUE=DATE-TIME:20260419T145608Z
UID:b40a530ed05b4cf9bfc8e229c8f9cd4a@disci.unibo.it
CREATED;VALUE=DATE-TIME:20250502T160800Z
LAST-MODIFIED;VALUE=DATE-TIME:20250502T160802Z
URL:https://disci.unibo.it/it/eventi/utilisation-de-l2019ia-generative-dan
 s-la-formation-opportunite-ou-risque
END:VEVENT
BEGIN:VTIMEZONE
TZID:Europe/Rome
X-LIC-LOCATION:Europe/Rome
BEGIN:DAYLIGHT
DTSTART;VALUE=DATE-TIME:20250330T030000
TZNAME:CEST
TZOFFSETFROM:+0100
TZOFFSETTO:+0200
END:DAYLIGHT
END:VTIMEZONE
END:VCALENDAR
