BEGIN:VCALENDAR
VERSION:2.0
PRODID:-//Plone.org//NONSGML plone.app.event//EN
X-WR-TIMEZONE:Europe/Rome
BEGIN:VEVENT
SUMMARY:Vae victis! Rappresentazione e autorappresentazione dei vinti nel 
 mondo antico
DTSTART;TZID=Europe/Rome;VALUE=DATE-TIME:20210514T170000
DTEND;TZID=Europe/Rome;VALUE=DATE-TIME:20210603T190000
DTSTAMP;VALUE=DATE-TIME:20260423T015101Z
UID:0764438ee70b47ce9d668cbb0d98abcd@disci.unibo.it
CREATED;VALUE=DATE-TIME:20210428T074036Z
DESCRIPTION:Ricerche a confronto\, XVI edizione - primavera 2021.
LAST-MODIFIED;VALUE=DATE-TIME:20210527T080153Z
URL:https://disci.unibo.it/it/eventi/vae-victis-rappresentazione-e-autorap
 presentazione-dei-vinti-nel-mondo-antico
END:VEVENT
BEGIN:VTIMEZONE
TZID:Europe/Rome
X-LIC-LOCATION:Europe/Rome
BEGIN:DAYLIGHT
DTSTART;VALUE=DATE-TIME:20210328T030000
TZNAME:CEST
TZOFFSETFROM:+0100
TZOFFSETTO:+0200
END:DAYLIGHT
END:VTIMEZONE
END:VCALENDAR
