BEGIN:VCALENDAR
VERSION:2.0
PRODID:-//Plone.org//NONSGML plone.app.event//EN
X-WR-TIMEZONE:Europe/Rome
BEGIN:VEVENT
SUMMARY:Ventidue secoli di storia: centuriazione e divisioni agrarie nella
  pianura romagnola
DTSTART;TZID=Europe/Rome;VALUE=DATE-TIME:20170216T151500
DTEND;TZID=Europe/Rome;VALUE=DATE-TIME:20170216T170000
DTSTAMP;VALUE=DATE-TIME:20260422T221546Z
UID:6a402fd4afb74e37aef02ac78b4926a6@disci.unibo.it
CREATED;VALUE=DATE-TIME:20170210T074455Z
DESCRIPTION:Seminario a cura di Leardo Mascanzoni.
LAST-MODIFIED;VALUE=DATE-TIME:20210304T100141Z
URL:https://disci.unibo.it/it/eventi/ventidue-secoli-di-storia-centuriazio
 ne-e-divisioni-agrarie-nella-pianura-romagnola
END:VEVENT
BEGIN:VTIMEZONE
TZID:Europe/Rome
X-LIC-LOCATION:Europe/Rome
BEGIN:STANDARD
DTSTART;VALUE=DATE-TIME:20161030T020000
TZNAME:CET
TZOFFSETFROM:+0200
TZOFFSETTO:+0100
END:STANDARD
END:VTIMEZONE
END:VCALENDAR
